BEGIN:VCALENDAR
VERSION:2.0
PRODID:-//Operation Impact - ECPv6.7.1//NONSGML v1.0//EN
CALSCALE:GREGORIAN
METHOD:PUBLISH
X-ORIGINAL-URL:https://operationimpact.co
X-WR-CALDESC:Events for Operation Impact
REFRESH-INTERVAL;VALUE=DURATION:PT1H
X-Robots-Tag:noindex
X-PUBLISHED-TTL:PT1H
BEGIN:VTIMEZONE
TZID:America/New_York
BEGIN:DAYLIGHT
TZOFFSETFROM:-0500
TZOFFSETTO:-0400
TZNAME:EDT
DTSTART:20230312T070000
END:DAYLIGHT
BEGIN:STANDARD
TZOFFSETFROM:-0400
TZOFFSETTO:-0500
TZNAME:EST
DTSTART:20231105T060000
END:STANDARD
END:VTIMEZONE
BEGIN:VEVENT
DTSTART;VALUE=DATE:20231004
DTEND;VALUE=DATE:20231005
DTSTAMP:20260425T061940
CREATED:20230822T162540Z
LAST-MODIFIED:20231013T170922Z
UID:3832-1696377600-1696463999@operationimpact.co
SUMMARY:Dine and Donate at Organic Krush - EVERY WEDNESDAY in OCTOBER
DESCRIPTION:JOIN US IN OCTOBER EVERY WEDNESDAY! Promo Code #LOVEOI \nDine with Organic Krush or order delivery on organickrush.com\, and Operation Impact will receive 10% of the proceeds! Use Promo Code #LOVEOI \nDates: October 4th\, 11th\, 18th\, and 25th \nOrder Online: organickrush.com to ORDER OR find your nearest location \nApplicable Locations: All Organic Krush Long Island locations including Rock Valley Center\, Roslyn\, Woodbury\, Plainview\, Stony Brook\, Amagansett \nShare below Flyer on Social Media! \nDine and Donate_Operation Impact_Organic Krush_Flyer \n 
URL:https://operationimpact.co/event/dine-and-donate-at-organic-krush-every-wednesday-in-october/
LOCATION:Organic Krush – Long Island Locations
CATEGORIES:Fundraising
END:VEVENT
END:VCALENDAR