BEGIN:VCALENDAR
VERSION:2.0
PRODID:-//Operation Impact - ECPv6.7.1//NONSGML v1.0//EN
CALSCALE:GREGORIAN
METHOD:PUBLISH
X-ORIGINAL-URL:https://operationimpact.co
X-WR-CALDESC:Events for Operation Impact
REFRESH-INTERVAL;VALUE=DURATION:PT1H
X-Robots-Tag:noindex
X-PUBLISHED-TTL:PT1H
BEGIN:VTIMEZONE
TZID:America/New_York
BEGIN:DAYLIGHT
TZOFFSETFROM:-0500
TZOFFSETTO:-0400
TZNAME:EDT
DTSTART:20250309T070000
END:DAYLIGHT
BEGIN:STANDARD
TZOFFSETFROM:-0400
TZOFFSETTO:-0500
TZNAME:EST
DTSTART:20251102T060000
END:STANDARD
END:VTIMEZONE
BEGIN:VEVENT
DTSTART;TZID=America/New_York:20250504T130000
DTEND;TZID=America/New_York:20250504T160000
DTSTAMP:20260423T034201
CREATED:20260325T182110Z
LAST-MODIFIED:20260325T182110Z
UID:4486-1746363600-1746374400@operationimpact.co
SUMMARY:Salsa Night
DESCRIPTION:Get ready to dance with purpose. Our upcoming Salsa Night fundraiser in Freeport from 1PM-4PM is more than just a good time — it’s a chance to come together as a community and create real impact. From the music to the mission\, every step on the dance floor helps support our work with children and families in need. Grab your friends\, bring your energy\, and join us for a night of movement\, connection\, and giving back. We can’t wait to see you there. \nMay 4\, 2025\n1PM-4PM\nMoore 4 You Community Center in Freeport\, NY
URL:https://operationimpact.co/event/salsa-night/
END:VEVENT
END:VCALENDAR