BEGIN:VCALENDAR
VERSION:2.0
PRODID:-//Operation Impact - ECPv6.7.1//NONSGML v1.0//EN
CALSCALE:GREGORIAN
METHOD:PUBLISH
X-WR-CALNAME:Operation Impact
X-ORIGINAL-URL:https://operationimpact.co
X-WR-CALDESC:Events for Operation Impact
REFRESH-INTERVAL;VALUE=DURATION:PT1H
X-Robots-Tag:noindex
X-PUBLISHED-TTL:PT1H
BEGIN:VTIMEZONE
TZID:America/New_York
BEGIN:DAYLIGHT
TZOFFSETFROM:-0500
TZOFFSETTO:-0400
TZNAME:EDT
DTSTART:20260308T070000
END:DAYLIGHT
BEGIN:STANDARD
TZOFFSETFROM:-0400
TZOFFSETTO:-0500
TZNAME:EST
DTSTART:20261101T060000
END:STANDARD
END:VTIMEZONE
BEGIN:VEVENT
DTSTART;TZID=America/New_York:20260627T090000
DTEND;TZID=America/New_York:20260627T140000
DTSTAMP:20260422T184458
CREATED:20260325T172718Z
LAST-MODIFIED:20260325T182226Z
UID:4449-1782550800-1782568800@operationimpact.co
SUMMARY:Be the Change Race
DESCRIPTION:Operation Impact presents Be The Change 4.12 Mile Race\nKick off the summer by running through Pittsburgh’s scenic North Park\, and a fun post race party. Options include a 4.12 Mile Race\, the untimed family 1 mile in North Park\, or join us from your home city with our Virtual Option. \nAll proceeds go towards supporting educational programming at our main partnership\, Urban Impact Foundation as they continue to empower and support youth in the North Side of Pittsburgh. \nFor more information and to sign up click here. \nSaturday\, June 27th\n9:00am \nNorth Park Boathouse\n10301 Pearce Mill Rd\, Allison Park\, PA 15101
URL:https://operationimpact.co/event/be-the-change-race/
END:VEVENT
BEGIN:VEVENT
DTSTART;TZID=America/New_York:20260719T103000
DTEND;TZID=America/New_York:20260719T123000
DTSTAMP:20260422T184458
CREATED:20260304T231106Z
LAST-MODIFIED:20260401T183650Z
UID:4411-1784457000-1784464200@operationimpact.co
SUMMARY:Roll for a Reason - Brandon\, Florida
DESCRIPTION:We’re lacing up our skates to support Operation Impact\, raising funds to help underprivileged families in the Tampa Bay Area. Every glide\, spin and smile helps make a huge difference. \nTwo hours of skating\, races\, raffles\, games and more. \nStandard Package: $30 \nGlow Package: $35 \nTo sign up\, please click here. \n 
URL:https://operationimpact.co/event/roll-for-a-reason-brandon-florida/
LOCATION:Brandon Astro Skate Family Fun Center\, 750 West Robertson Street\, Brandon\, FL\, 33511\, United States
END:VEVENT
BEGIN:VEVENT
DTSTART;VALUE=DATE:20261010
DTEND;VALUE=DATE:20261011
DTSTAMP:20260422T184458
CREATED:20260325T173011Z
LAST-MODIFIED:20260325T173011Z
UID:4451-1791590400-1791676799@operationimpact.co
SUMMARY:Punk Rock Run
DESCRIPTION:Operation Impact presents the Punk Rock Run for Mental Health\nOctober 10\, 2026
URL:https://operationimpact.co/event/punk-rock-run/
END:VEVENT
END:VCALENDAR