BEGIN:VCALENDAR
VERSION:2.0
PRODID:-//Operation Impact - ECPv6.7.1//NONSGML v1.0//EN
CALSCALE:GREGORIAN
METHOD:PUBLISH
X-WR-CALNAME:Operation Impact
X-ORIGINAL-URL:https://operationimpact.co
X-WR-CALDESC:Events for Operation Impact
REFRESH-INTERVAL;VALUE=DURATION:PT1H
X-Robots-Tag:noindex
X-PUBLISHED-TTL:PT1H
BEGIN:VTIMEZONE
TZID:America/New_York
BEGIN:DAYLIGHT
TZOFFSETFROM:-0500
TZOFFSETTO:-0400
TZNAME:EDT
DTSTART:20240310T070000
END:DAYLIGHT
BEGIN:STANDARD
TZOFFSETFROM:-0400
TZOFFSETTO:-0500
TZNAME:EST
DTSTART:20241103T060000
END:STANDARD
END:VTIMEZONE
BEGIN:VEVENT
DTSTART;TZID=America/New_York:20240621T180000
DTEND;TZID=America/New_York:20240621T190000
DTSTAMP:20260424T192246
CREATED:20240226T214356Z
LAST-MODIFIED:20240621T220414Z
UID:3981-1718992800-1718996400@operationimpact.co
SUMMARY:Operation Impact Info Session - Learn About Upcoming Events and How to Fundraise!
DESCRIPTION:Want to learn more on upcoming summer events such as Backpacks for a Cause? Are you interested in learning more about Making Fundraising Fun? Join us Friday June 21st at 6pm! You won’t want to miss this! \nRegister here to receive the zoom link!
URL:https://operationimpact.co/event/operation-impact-information-session-learn-about-upcoming-events-and-how-to-fundraise/
LOCATION:New York
CATEGORIES:Backpacks for a Cause,education,Fundraising,volunteer
END:VEVENT
BEGIN:VEVENT
DTSTART;TZID=America/New_York:20240920T180000
DTEND;TZID=America/New_York:20240920T190000
DTSTAMP:20260424T192246
CREATED:20240226T215413Z
LAST-MODIFIED:20240621T220829Z
UID:3985-1726855200-1726858800@operationimpact.co
SUMMARY:Operation Impact Info Session! - Learn How to Participate in Year End Giving Campaign with Operation Holiday Impact!
DESCRIPTION:It’s that time of year! Year end Giving is almost underway. Want to be a part of Operation Impact’s Year End Giving Campaign with Operation Holiday Impact? Join us Friday September 20th at 6pm! \nRegister here to receive the zoom link! \n 
URL:https://operationimpact.co/event/operation-impact-info-session-learn-how-to-participate-in-year-end-giving-campaign-with-operation-holiday-impact/
LOCATION:New York
CATEGORIES:education,Food Distribution,Fundraising,Operation Holiday Impact,volunteer
END:VEVENT
END:VCALENDAR