BEGIN:VCALENDAR
VERSION:2.0
PRODID:-//Operation Impact - ECPv6.7.1//NONSGML v1.0//EN
CALSCALE:GREGORIAN
METHOD:PUBLISH
X-WR-CALNAME:Operation Impact
X-ORIGINAL-URL:https://operationimpact.co
X-WR-CALDESC:Events for Operation Impact
REFRESH-INTERVAL;VALUE=DURATION:PT1H
X-Robots-Tag:noindex
X-PUBLISHED-TTL:PT1H
BEGIN:VTIMEZONE
TZID:America/New_York
BEGIN:DAYLIGHT
TZOFFSETFROM:-0500
TZOFFSETTO:-0400
TZNAME:EDT
DTSTART:20230312T070000
END:DAYLIGHT
BEGIN:STANDARD
TZOFFSETFROM:-0400
TZOFFSETTO:-0500
TZNAME:EST
DTSTART:20231105T060000
END:STANDARD
END:VTIMEZONE
BEGIN:VEVENT
DTSTART;TZID=America/New_York:20231216T090000
DTEND;TZID=America/New_York:20231216T140000
DTSTAMP:20260424T204044
CREATED:20231103T170513Z
LAST-MODIFIED:20231117T165028Z
UID:3912-1702717200-1702735200@operationimpact.co
SUMMARY:Suffolk County - OHI Volunteer with Branches Long Island
DESCRIPTION:Holiday Party Celebration!\nThis is the big holiday event to celebrate the holiday’s with the families! There will be Santa\, Hot Coco\, Photo Booth\, Christmas Carols\, treats and more! Let’s bring these families joy and the Gift of Hope by serving them this holiday!\n\nTo volunteer please email: events@operationimpact.co
URL:https://operationimpact.co/event/suffolk-county-ohi-volunteer-with-branches-long-island-2/
LOCATION:Branches Long Island\, 588 Middle Country Rd\, Middle Island\, New York\, 11953
CATEGORIES:Operation Holiday Impact,volunteer
END:VEVENT
BEGIN:VEVENT
DTSTART;TZID=America/New_York:20231216T110000
DTEND;TZID=America/New_York:20231216T180000
DTSTAMP:20260424T204044
CREATED:20231103T205847Z
LAST-MODIFIED:20231103T205847Z
UID:3926-1702724400-1702749600@operationimpact.co
SUMMARY:Atlanta\, Georgia - OHI Volunteer with MUST Ministries
DESCRIPTION:Toy Shop Day and Restock! \nJoin us as we shop with parents for their children to pick out toys for Christmas! Dress up and have fun! Let’s bring these families joy and the Gift of Hope by serving them this holiday!\n\n12/16/23 \nToy Shop 11am – 3pm\nRestock Day 2pm – 5pm\n\nTo volunteer please email: events@operationimpact.co
URL:https://operationimpact.co/event/atlanta-georgia-ohi-volunteer-with-must-ministries-2/
LOCATION:Must Ministries
CATEGORIES:Operation Holiday Impact,volunteer
END:VEVENT
END:VCALENDAR