BEGIN:VCALENDAR
VERSION:2.0
PRODID:-//Operation Impact - ECPv6.7.1//NONSGML v1.0//EN
CALSCALE:GREGORIAN
METHOD:PUBLISH
X-WR-CALNAME:Operation Impact
X-ORIGINAL-URL:https://operationimpact.co
X-WR-CALDESC:Events for Operation Impact
REFRESH-INTERVAL;VALUE=DURATION:PT1H
X-Robots-Tag:noindex
X-PUBLISHED-TTL:PT1H
BEGIN:VTIMEZONE
TZID:America/New_York
BEGIN:DAYLIGHT
TZOFFSETFROM:-0500
TZOFFSETTO:-0400
TZNAME:EDT
DTSTART:20240310T070000
END:DAYLIGHT
BEGIN:STANDARD
TZOFFSETFROM:-0400
TZOFFSETTO:-0500
TZNAME:EST
DTSTART:20241103T060000
END:STANDARD
END:VTIMEZONE
BEGIN:VEVENT
DTSTART;VALUE=DATE:20241213
DTEND;VALUE=DATE:20241215
DTSTAMP:20260423T122915
CREATED:20241106T232736Z
LAST-MODIFIED:20241106T232736Z
UID:4189-1734048000-1734220799@operationimpact.co
SUMMARY:ATL Serve Days
DESCRIPTION:
URL:https://operationimpact.co/event/atl-serve-days/
END:VEVENT
BEGIN:VEVENT
DTSTART;VALUE=DATE:20241214
DTEND;VALUE=DATE:20241215
DTSTAMP:20260423T122915
CREATED:20241106T232545Z
LAST-MODIFIED:20241106T232545Z
UID:4182-1734134400-1734220799@operationimpact.co
SUMMARY:Tampa Kennedy Cares Event
DESCRIPTION:
URL:https://operationimpact.co/event/tampa-kennedy-cares-event/
END:VEVENT
END:VCALENDAR