BEGIN:VCALENDAR
VERSION:2.0
PRODID:-//Operation Impact - ECPv6.7.1//NONSGML v1.0//EN
CALSCALE:GREGORIAN
METHOD:PUBLISH
X-ORIGINAL-URL:https://operationimpact.co
X-WR-CALDESC:Events for Operation Impact
REFRESH-INTERVAL;VALUE=DURATION:PT1H
X-Robots-Tag:noindex
X-PUBLISHED-TTL:PT1H
BEGIN:VTIMEZONE
TZID:America/New_York
BEGIN:DAYLIGHT
TZOFFSETFROM:-0500
TZOFFSETTO:-0400
TZNAME:EDT
DTSTART:20240310T070000
END:DAYLIGHT
BEGIN:STANDARD
TZOFFSETFROM:-0400
TZOFFSETTO:-0500
TZNAME:EST
DTSTART:20241103T060000
END:STANDARD
END:VTIMEZONE
BEGIN:VEVENT
DTSTART;TZID=America/New_York:20240823T140000
DTEND;TZID=America/New_York:20240823T190000
DTSTAMP:20260423T185738
CREATED:20240701T174243Z
LAST-MODIFIED:20240719T022132Z
UID:4142-1724421600-1724439600@operationimpact.co
SUMMARY:Backpacks For A Cause – More 4 U - Freeport\, Long Island (Nassau County) – Collection Day (Drop off Only )
DESCRIPTION:Hello Freeport ! \nPlease join in helping us collect 100 Quality backpacks with school supplies. \nWe are looking to provide backpacks to students in Kindergarten- 6th grade.\nSupply List:\n1- Backpack\n1- Hard pencil case\n3- Marble notebooks\n1- Box of 24 crayons\n3- Black dry erase marker\n1- Box of 24 #2 pencil\n1- Scissors\n3- Jumbo glue sticks\n3- Pink erasers\n1- Box Color pencils\n3- Pocket Folders\n3- Black Sharpies\n3- Highlighters\n1- Pencil Sharpener \n 
URL:https://operationimpact.co/event/backpacks-for-a-cause-more-4-u-freeport-long-island-nassau-county-collection-day-drop-off-only/
LOCATION:Moore 4 You – Freeport New York\, 90 Mill Rd. Suite 201\, Freeport\, New York\, 11520
ORGANIZER;CN="Raquel Levine":MAILTO:events@operationimpact.co
END:VEVENT
END:VCALENDAR