BEGIN:VCALENDAR
VERSION:2.0
PRODID:-//Operation Impact - ECPv6.7.1//NONSGML v1.0//EN
CALSCALE:GREGORIAN
METHOD:PUBLISH
X-WR-CALNAME:Operation Impact
X-ORIGINAL-URL:https://operationimpact.co
X-WR-CALDESC:Events for Operation Impact
REFRESH-INTERVAL;VALUE=DURATION:PT1H
X-Robots-Tag:noindex
X-PUBLISHED-TTL:PT1H
BEGIN:VTIMEZONE
TZID:America/New_York
BEGIN:DAYLIGHT
TZOFFSETFROM:-0500
TZOFFSETTO:-0400
TZNAME:EDT
DTSTART:20240310T070000
END:DAYLIGHT
BEGIN:STANDARD
TZOFFSETFROM:-0400
TZOFFSETTO:-0500
TZNAME:EST
DTSTART:20241103T060000
END:STANDARD
END:VTIMEZONE
BEGIN:VEVENT
DTSTART;VALUE=DATE:20240711
DTEND;VALUE=DATE:20240823
DTSTAMP:20260423T185442
CREATED:20240711T043508Z
LAST-MODIFIED:20240711T043508Z
UID:4151-1720656000-1724371199@operationimpact.co
SUMMARY:Backpacks For A Cause - Alabama - Collection Day
DESCRIPTION:Hello Alabama ! \nPlease help us collect clear/mesh backpacks!
URL:https://operationimpact.co/event/backpacks-for-a-cause-alabama-collection-day/
LOCATION:Alabama\, 211 Applegate Trce\, Pelham\, AL\, 35124\, United States
ORGANIZER;CN="Jade Ledet":MAILTO:ledet.jade9618@gmail.com
END:VEVENT
BEGIN:VEVENT
DTSTART;TZID=America/New_York:20240818T083000
DTEND;TZID=America/New_York:20240818T120000
DTSTAMP:20260423T185442
CREATED:20240623T014834Z
LAST-MODIFIED:20240623T014834Z
UID:4133-1723969800-1723982400@operationimpact.co
SUMMARY:Backpacks For A Cause - Middle Island\, New York (Suffolk County ) - Distribution Day
DESCRIPTION:Hello Suffolk County ! \nPlease help us distribute backpacks ! Info is below.
URL:https://operationimpact.co/event/backpacks-for-a-cause-middle-island-new-york-suffolk-county-distribution-day-2/
LOCATION:Branches Long Island\, 588 Middle Country Rd\, Middle Island\, New York\, 11953
ORGANIZER;CN="Raquel Levine":MAILTO:events@operationimpact.co
END:VEVENT
BEGIN:VEVENT
DTSTART;TZID=America/New_York:20240818T090000
DTEND;TZID=America/New_York:20240818T170000
DTSTAMP:20260423T185442
CREATED:20240623T013559Z
LAST-MODIFIED:20240623T013559Z
UID:4129-1723971600-1724000400@operationimpact.co
SUMMARY:Backpacks For A Cause - Middle Island\, New York (Suffolk County) -  Distribution Day
DESCRIPTION:Hello Suffolk County Crew ! \nPlease help us in distributing backpacks ! Info is below.
URL:https://operationimpact.co/event/backpacks-for-a-cause-middle-island-new-york-suffolk-county-distribution-day/
ORGANIZER;CN="Raquel Levine":MAILTO:events@operationimpact.co
END:VEVENT
BEGIN:VEVENT
DTSTART;TZID=America/New_York:20240818T120000
DTEND;TZID=America/New_York:20240818T150000
DTSTAMP:20260423T185442
CREATED:20240623T015027Z
LAST-MODIFIED:20240623T015027Z
UID:4135-1723982400-1723993200@operationimpact.co
SUMMARY:Backpacks For A Cause - Middle Island\, New York (Suffolk County ) - Distribution Day
DESCRIPTION:Hello Suffolk County Crew ! \nPlease help us in distributing backpacks ! Info is below.
URL:https://operationimpact.co/event/backpacks-for-a-cause-middle-island-new-york-suffolk-county-distribution-day-3/
LOCATION:Branches Long Island\, 588 Middle Country Rd\, Middle Island\, New York\, 11953
ORGANIZER;CN="Raquel Levine":MAILTO:events@operationimpact.co
END:VEVENT
BEGIN:VEVENT
DTSTART;TZID=America/New_York:20240818T130000
DTEND;TZID=America/New_York:20240818T160000
DTSTAMP:20260423T185442
CREATED:20240622T035327Z
LAST-MODIFIED:20240622T035327Z
UID:4114-1723986000-1723996800@operationimpact.co
SUMMARY:Backpacks for a Cause - Baltimore\, Maryland - Distribution Day
DESCRIPTION:Hello Maryland Crew ! \nPlease join in helping us distribute 200 Quality backpacks with school supplies to start students off to a successful school year ! \nDistribution will be held at  Renaissance Park: 99 Stemmers Run Road Essex\, Maryland\, 21221. \nFor any questions please contact our team lead Alfonzo Timmons at (443)996-6007 or\, altim410@gmail.com.
URL:https://operationimpact.co/event/backpacks-for-a-cause-baltimore-maryland-distribution-day/
LOCATION:Baltimore\, Maryland Hub\, 5 Bellows Ct.\, Towson\, Maryland\, 21204
ORGANIZER;CN="Alfonzo Timmons":MAILTO:altim410@gmail.com
END:VEVENT
BEGIN:VEVENT
DTSTART;TZID=America/New_York:20240818T150000
DTEND;TZID=America/New_York:20240818T173000
DTSTAMP:20260423T185442
CREATED:20240623T015308Z
LAST-MODIFIED:20240623T015326Z
UID:4137-1723993200-1724002200@operationimpact.co
SUMMARY:Backpacks For A Cause - Middle Island\, New York (Suffolk County ) - Distribution Day
DESCRIPTION:Hello Suffolk County Crew ! \nPlease help us in distributing backpacks ! Info is below
URL:https://operationimpact.co/event/backpacks-for-a-cause-middle-island-new-york-suffolk-county-distribution-day-4/
LOCATION:Branches Long Island\, 588 Middle Country Rd\, Middle Island\, New York\, 11953
ORGANIZER;CN="Raquel Levine":MAILTO:events@operationimpact.co
END:VEVENT
END:VCALENDAR