BEGIN:VCALENDAR
VERSION:2.0
PRODID:-//Operation Impact - ECPv6.7.1//NONSGML v1.0//EN
CALSCALE:GREGORIAN
METHOD:PUBLISH
X-ORIGINAL-URL:https://operationimpact.co
X-WR-CALDESC:Events for Operation Impact
REFRESH-INTERVAL;VALUE=DURATION:PT1H
X-Robots-Tag:noindex
X-PUBLISHED-TTL:PT1H
BEGIN:VTIMEZONE
TZID:America/New_York
BEGIN:DAYLIGHT
TZOFFSETFROM:-0500
TZOFFSETTO:-0400
TZNAME:EDT
DTSTART:20240310T070000
END:DAYLIGHT
BEGIN:STANDARD
TZOFFSETFROM:-0400
TZOFFSETTO:-0500
TZNAME:EST
DTSTART:20241103T060000
END:STANDARD
END:VTIMEZONE
BEGIN:VEVENT
DTSTART;VALUE=DATE:20240621
DTEND;VALUE=DATE:20240706
DTSTAMP:20260423T203005
CREATED:20240621T233048Z
LAST-MODIFIED:20240621T233156Z
UID:4109-1718928000-1720223999@operationimpact.co
SUMMARY:Woodstock\, Georgia - Give a Kid a Chance - Accepting Backpacks - Give a Kid a Chance
DESCRIPTION:Help us Give a Kid a Chance! \n\nAccepting backpacks until July 5th\nCollection Address: 525 Magnolia drive\, Woodstock\, GA 30188\nFor any questions please contact Sarah Stiles at : 1(478)361-0853 or\, schoppel93@gmail.com\n\n 
URL:https://operationimpact.co/event/woodstock-georgia-give-a-kid-a-chance-accepting-backpacks-give-a-kid-a-chance/
LOCATION:Woodstock\, Georgia Hub\, 525 Magnolia Court\, Woodstock\, Georgia\, 30188
ORGANIZER;CN="Sarah Stiles":MAILTO:schoppel93@gmail.com
END:VEVENT
BEGIN:VEVENT
DTSTART;TZID=America/New_York:20240621T080000
DTEND;TZID=America/New_York:20240817T170000
DTSTAMP:20260423T203005
CREATED:20240622T034721Z
LAST-MODIFIED:20240622T034914Z
UID:4112-1718956800-1723914000@operationimpact.co
SUMMARY:Backpacks For A Cause - Baltimore\, Maryland - Ongoing Collection
DESCRIPTION:Hello Maryland Crew ! \nPlease join in helping us collect 200 Quality backpacks with school supplies. \nSchool Supplies suggestion list can be found here : https://operationimpact.co/get-involved/backpacks-for-a-cause/. \nWe are collecting backpacks at 5 Bellows Ct. Towson\, MD 21204 until August 17th. \nFor any questions please contact our team lead Alfonzo Timmons at (443)996-6007 or\, altim410@gmail.com.
URL:https://operationimpact.co/event/backpacks-for-a-cause-baltimore-maryland-ongoing-collection/
END:VEVENT
END:VCALENDAR