BEGIN:VCALENDAR
VERSION:2.0
PRODID:-//Operation Impact - ECPv6.7.1//NONSGML v1.0//EN
CALSCALE:GREGORIAN
METHOD:PUBLISH
X-WR-CALNAME:Operation Impact
X-ORIGINAL-URL:https://operationimpact.co
X-WR-CALDESC:Events for Operation Impact
REFRESH-INTERVAL;VALUE=DURATION:PT1H
X-Robots-Tag:noindex
X-PUBLISHED-TTL:PT1H
BEGIN:VTIMEZONE
TZID:America/New_York
BEGIN:DAYLIGHT
TZOFFSETFROM:-0500
TZOFFSETTO:-0400
TZNAME:EDT
DTSTART:20240310T070000
END:DAYLIGHT
BEGIN:STANDARD
TZOFFSETFROM:-0400
TZOFFSETTO:-0500
TZNAME:EST
DTSTART:20241103T060000
END:STANDARD
END:VTIMEZONE
BEGIN:VEVENT
DTSTART;VALUE=DATE:20240531
DTEND;VALUE=DATE:20240603
DTSTAMP:20260423T215938
CREATED:20240221T185133Z
LAST-MODIFIED:20240221T185133Z
UID:3975-1717113600-1717372799@operationimpact.co
SUMMARY:Volunteer Sign Up: Operation Impact and Elevate - 2024
DESCRIPTION:Operation Impact is invited to attend an invite only event – Elevate 2024. If you are attending this event and would like to volunteer with Operation Impact for either our Info Booth\, Impact Kids or Sunday Donations. Click on the link below to sign up and for more details! \nDeadline to sign up is May 19th  –   Click to Volunteer Here
URL:https://operationimpact.co/event/volunteer-sign-up-operation-impact-and-elevate-2024/
END:VEVENT
BEGIN:VEVENT
DTSTART;TZID=America/New_York:20240602T090000
DTEND;TZID=America/New_York:20240602T110000
DTSTAMP:20260423T215938
CREATED:20240221T185626Z
LAST-MODIFIED:20240221T192028Z
UID:3977-1717318800-1717326000@operationimpact.co
SUMMARY:Impact Kids Registration - Elevate 2024
DESCRIPTION:Operation Impact is invited to attend an invite only event at the Kalahari Resort in the Poconos – Elevate 2024. We will be having an exclusive Impact Kids event for all children in attendance on Sunday June 2nd. Time and Room Location TBD. \nRegister your Kiddos Here Today!!  \nEvent Details:\nWe will be taking our kiddos on an adventure filled with activites around team building\, how to be kind\, and work together. There will be active parts of the class so get ready!! \nAnyone under the age of 3 will need their parent to accompany them (parent does not need to register separately). Ages up to the age of 12 are welcome to join the class. \nHave your kids wear their Impact Kids T-Shirts if they have them! Each child will be given a certificate of excellence! \nRegister your Kiddos Here Today!!  \n 
URL:https://operationimpact.co/event/impact-kids-registration-elevate-2024/
END:VEVENT
END:VCALENDAR