BEGIN:VCALENDAR
VERSION:2.0
PRODID:-//Operation Impact - ECPv6.7.1//NONSGML v1.0//EN
CALSCALE:GREGORIAN
METHOD:PUBLISH
X-ORIGINAL-URL:https://operationimpact.co
X-WR-CALDESC:Events for Operation Impact
REFRESH-INTERVAL;VALUE=DURATION:PT1H
X-Robots-Tag:noindex
X-PUBLISHED-TTL:PT1H
BEGIN:VTIMEZONE
TZID:America/New_York
BEGIN:DAYLIGHT
TZOFFSETFROM:-0500
TZOFFSETTO:-0400
TZNAME:EDT
DTSTART:20230312T070000
END:DAYLIGHT
BEGIN:STANDARD
TZOFFSETFROM:-0400
TZOFFSETTO:-0500
TZNAME:EST
DTSTART:20231105T060000
END:STANDARD
END:VTIMEZONE
BEGIN:VEVENT
DTSTART;TZID=America/New_York:20231218T100000
DTEND;TZID=America/New_York:20231218T130000
DTSTAMP:20260424T102745
CREATED:20231103T203344Z
LAST-MODIFIED:20231205T151739Z
UID:3917-1702893600-1702904400@operationimpact.co
SUMMARY:Brooklyn\, New York - OHI Volunteer with the Stockholm Shelter
DESCRIPTION:Holiday Party Celebration! This is the big holiday event to celebrate the holiday’s with the families! There will be Hot Coco\, Photo Booth\, Christmas Carols\, treats and more! Let’s bring these families joy and the Gift of Hope by serving them this holiday! \nTo volunteer please email: events@operationimpact.co
URL:https://operationimpact.co/event/brooklyn-new-york-ohi-volunteer-with-the-stockholm-shelter/
LOCATION:Stockholm Shelter – Brooklyn NY\, 99 Stockholm St\, Brooklyn\, New York\, 11221
CATEGORIES:Operation Holiday Impact,volunteer
END:VEVENT
END:VCALENDAR