BEGIN:VCALENDAR
VERSION:2.0
PRODID:-//Operation Impact - ECPv6.7.1//NONSGML v1.0//EN
CALSCALE:GREGORIAN
METHOD:PUBLISH
X-ORIGINAL-URL:https://operationimpact.co
X-WR-CALDESC:Events for Operation Impact
REFRESH-INTERVAL;VALUE=DURATION:PT1H
X-Robots-Tag:noindex
X-PUBLISHED-TTL:PT1H
BEGIN:VTIMEZONE
TZID:America/New_York
BEGIN:DAYLIGHT
TZOFFSETFROM:-0500
TZOFFSETTO:-0400
TZNAME:EDT
DTSTART:20230312T070000
END:DAYLIGHT
BEGIN:STANDARD
TZOFFSETFROM:-0400
TZOFFSETTO:-0500
TZNAME:EST
DTSTART:20231105T060000
END:STANDARD
END:VTIMEZONE
BEGIN:VEVENT
DTSTART;TZID=America/New_York:20231214T160000
DTEND;TZID=America/New_York:20231214T180000
DTSTAMP:20260424T102753
CREATED:20231103T203857Z
LAST-MODIFIED:20231103T203857Z
UID:3919-1702569600-1702576800@operationimpact.co
SUMMARY:Jersey City\, New Jersey - OHI Volunteer with Urban League
DESCRIPTION:Holiday Party Celebration!\nThis is the big holiday event to celebrate the holiday’s with the families and distribute toys\, essential items and more! There will be Santa\, Hot Coco\, Photo Booth\, Christmas Carols\, treats and more! Let’s bring these families joy and the Gift of Hope by serving them this holiday!\n\nTo volunteer please email: events@operationimpact.co
URL:https://operationimpact.co/event/jersey-city-new-jersey-ohi-volunteer-with-urban-league/
LOCATION:Urban League of Hudson County\, 253 Martin Luther King Jr\, Jersey City\, New Jersey\, 07305
CATEGORIES:Operation Holiday Impact,volunteer
END:VEVENT
END:VCALENDAR