BEGIN:VCALENDAR
VERSION:2.0
PRODID:-//Operation Impact - ECPv6.7.1//NONSGML v1.0//EN
CALSCALE:GREGORIAN
METHOD:PUBLISH
X-ORIGINAL-URL:https://operationimpact.co
X-WR-CALDESC:Events for Operation Impact
REFRESH-INTERVAL;VALUE=DURATION:PT1H
X-Robots-Tag:noindex
X-PUBLISHED-TTL:PT1H
BEGIN:VTIMEZONE
TZID:America/New_York
BEGIN:DAYLIGHT
TZOFFSETFROM:-0500
TZOFFSETTO:-0400
TZNAME:EDT
DTSTART:20230312T070000
END:DAYLIGHT
BEGIN:STANDARD
TZOFFSETFROM:-0400
TZOFFSETTO:-0500
TZNAME:EST
DTSTART:20231105T060000
END:STANDARD
END:VTIMEZONE
BEGIN:VEVENT
DTSTART;TZID=America/New_York:20231209T180000
DTEND;TZID=America/New_York:20231209T210000
DTSTAMP:20260424T102752
CREATED:20231103T210338Z
LAST-MODIFIED:20231103T212855Z
UID:3929-1702144800-1702155600@operationimpact.co
SUMMARY:Pittsburgh\, Pennsylvania - OHI Volunteer with Urban Impact
DESCRIPTION:Holiday Party Celebration!\nThis is the big holiday event to celebrate the holiday’s with the children and families of Urban Impact. There will be Santa\, Hot Coco\, Photo Booth\, Christmas Carols\, treats and more! We will be bringing them the Gift of Hope by providing scholarships for their summer programming that keeps them off the streets\, fed and educated. Let’s bring these kids and families joy by serving them this holiday!\n\nTo volunteer please email: events@operationimpact.co
URL:https://operationimpact.co/event/pittsburgh-pennsylvania-ohi-volunteer-with-urban-impact/
LOCATION:Urban Impact\, 901 Warrendale Village Drive\, Warrendale\, Pennsylvania\, 15086
CATEGORIES:Operation Holiday Impact,volunteer
END:VEVENT
END:VCALENDAR