BEGIN:VCALENDAR
VERSION:2.0
PRODID:-//Operation Impact - ECPv6.7.1//NONSGML v1.0//EN
CALSCALE:GREGORIAN
METHOD:PUBLISH
X-ORIGINAL-URL:https://operationimpact.co
X-WR-CALDESC:Events for Operation Impact
REFRESH-INTERVAL;VALUE=DURATION:PT1H
X-Robots-Tag:noindex
X-PUBLISHED-TTL:PT1H
BEGIN:VTIMEZONE
TZID:America/New_York
BEGIN:DAYLIGHT
TZOFFSETFROM:-0500
TZOFFSETTO:-0400
TZNAME:EDT
DTSTART:20230312T070000
END:DAYLIGHT
BEGIN:STANDARD
TZOFFSETFROM:-0400
TZOFFSETTO:-0500
TZNAME:EST
DTSTART:20231105T060000
END:STANDARD
END:VTIMEZONE
BEGIN:VEVENT
DTSTART;VALUE=DATE:20231001
DTEND;VALUE=DATE:20231202
DTSTAMP:20260424T132500
CREATED:20231013T170824Z
LAST-MODIFIED:20231013T183012Z
UID:3896-1696118400-1701475199@operationimpact.co
SUMMARY:Operation Holiday Impact Fundraising is OPEN!!
DESCRIPTION:Donations for Operation Holiday Impact will be open from October 1st to December 1st and close at 11:59pm. Make sure to plan your months accordingly so you are not scrambling last minute to get donations in! Checks will need to be received by December 1st to go towards your fundraising goal. If received after December 1st funds will be allocated towards the general mission of Operation Impact for 2024 funding. \nChecks can be made out to Operation Impact Inc and mailed to: Operation Impact Inc 3033 Express Dr. N Suite 101 Islandia NY 11749 
URL:https://operationimpact.co/event/operation-holiday-impact-fundraising-is-open/
CATEGORIES:Operation Holiday Impact
END:VEVENT
BEGIN:VEVENT
DTSTART;VALUE=DATE:20231025
DTEND;VALUE=DATE:20231026
DTSTAMP:20260424T132500
CREATED:20230822T162915Z
LAST-MODIFIED:20231013T170855Z
UID:3841-1698192000-1698278399@operationimpact.co
SUMMARY:Dine and Donate at Organic Krush – EVERY WEDNESDAY in OCTOBER
DESCRIPTION:JOIN US IN OCTOBER EVERY WEDNESDAY! Promo Code #LOVEOI \nDine with Organic Krush or order delivery on organickrush.com\, and Operation Impact will receive 10% of the proceeds! Use Promo Code #LOVEOI \nDates: October 4th\, 11th\, 18th\, and 25th \nOrder Online: organickrush.com to ORDER OR find your nearest location \nApplicable Locations: All Organic Krush Long Island locations including Rock Valley Center\, Roslyn\, Woodbury\, Plainview\, Stony Brook\, Amagansett \nShare below Flyer on Social Media! \nDine and Donate_Operation Impact_Organic Krush_Flyer
URL:https://operationimpact.co/event/dine-and-donate-at-organic-krush-every-wednesday-in-october-4/
LOCATION:Organic Krush – Long Island Locations
CATEGORIES:Fundraising
END:VEVENT
END:VCALENDAR