BEGIN:VCALENDAR
VERSION:2.0
PRODID:-//Operation Impact - ECPv6.7.1//NONSGML v1.0//EN
CALSCALE:GREGORIAN
METHOD:PUBLISH
X-ORIGINAL-URL:https://operationimpact.co
X-WR-CALDESC:Events for Operation Impact
REFRESH-INTERVAL;VALUE=DURATION:PT1H
X-Robots-Tag:noindex
X-PUBLISHED-TTL:PT1H
BEGIN:VTIMEZONE
TZID:America/New_York
BEGIN:DAYLIGHT
TZOFFSETFROM:-0500
TZOFFSETTO:-0400
TZNAME:EDT
DTSTART:20230312T070000
END:DAYLIGHT
BEGIN:STANDARD
TZOFFSETFROM:-0400
TZOFFSETTO:-0500
TZNAME:EST
DTSTART:20231105T060000
END:STANDARD
END:VTIMEZONE
BEGIN:VEVENT
DTSTART;TZID=America/New_York:20230826T090000
DTEND;TZID=America/New_York:20230826T140000
DTSTAMP:20260424T161038
CREATED:20230718T164457Z
LAST-MODIFIED:20230719T212623Z
UID:3791-1693040400-1693058400@operationimpact.co
SUMMARY:Backpacks for a Cause - Drop off and Distribution - Moore 4 You - Freeport\, New York
DESCRIPTION:Bring pre-filled backpacks filled with school supplies to help support 150 children in need at Moore 4 You in Freeport\, New York! Also if you have baby wipes we will take those as well at the drop off. \nWe will also be distributing them out to the kids along with other supplies Moore 4 You is giving away! It is also their grand opening of their new facility! Let’s celebrate with them together! We need volunteers to come out and help through out the day. \nBackpack Drop Off: 9-11am \nBackpack Distribution: 11am-2pm \nTo donate\, volunteer or any questions please email event organizer below.
URL:https://operationimpact.co/event/backpacks-for-a-cause-drop-off-and-distribution-moore-4-you-freeport-ny/
LOCATION:Moore 4 You – Freeport New York\, 90 Mill Rd. Suite 201\, Freeport\, New York\, 11520
CATEGORIES:Backpacks for a Cause
ORGANIZER;CN="Raquel Levine":MAILTO:events@operationimpact.co
END:VEVENT
END:VCALENDAR