BEGIN:VCALENDAR
VERSION:2.0
PRODID:-//Operation Impact - ECPv6.7.1//NONSGML v1.0//EN
CALSCALE:GREGORIAN
METHOD:PUBLISH
X-WR-CALNAME:Operation Impact
X-ORIGINAL-URL:https://operationimpact.co
X-WR-CALDESC:Events for Operation Impact
REFRESH-INTERVAL;VALUE=DURATION:PT1H
X-Robots-Tag:noindex
X-PUBLISHED-TTL:PT1H
BEGIN:VTIMEZONE
TZID:America/New_York
BEGIN:DAYLIGHT
TZOFFSETFROM:-0500
TZOFFSETTO:-0400
TZNAME:EDT
DTSTART:20230312T070000
END:DAYLIGHT
BEGIN:STANDARD
TZOFFSETFROM:-0400
TZOFFSETTO:-0500
TZNAME:EST
DTSTART:20231105T060000
END:STANDARD
END:VTIMEZONE
BEGIN:VEVENT
DTSTART;TZID=America/New_York:20230820T103000
DTEND;TZID=America/New_York:20230820T233000
DTSTAMP:20260424T160722
CREATED:20230708T122951Z
LAST-MODIFIED:20230719T212629Z
UID:3772-1692527400-1692574200@operationimpact.co
SUMMARY:Backpacks for a Cause - Adelphoi Village- Pittsburgh\, Pennsylvania
DESCRIPTION:Join us as we serve and distribute 180 backpacks to kids to Adelphoi Village! To volunteer or any questions please email event organizer. Information Below.
URL:https://operationimpact.co/event/backpacks-for-a-cause-adelphoi-village-pittsburgh-pennsylvania/
LOCATION:Adelphoi Village\, 1119 Village Way\, Latrobe\, Pennsylvania\, 15650
CATEGORIES:Backpacks for a Cause
ORGANIZER;CN="Valerie Stein":MAILTO:valeriestein22@gmail.com
END:VEVENT
BEGIN:VEVENT
DTSTART;TZID=America/New_York:20230820T113000
DTEND;TZID=America/New_York:20230820T123000
DTSTAMP:20260424T160722
CREATED:20230708T123138Z
LAST-MODIFIED:20230719T212617Z
UID:3775-1692531000-1692534600@operationimpact.co
SUMMARY:Backpacks for a Cause - Big Brother\, Big Sister - Greensburg - Pittsburgh\, Pennsylvania
DESCRIPTION:Join us as we serve and distribute 36 backpacks to Big Brother\, Big Sister – Greensburg! For exact location\, to volunteer or any questions please email event organizer. Information Below.
URL:https://operationimpact.co/event/backpacks-for-a-cause-big-brother-big-sister-greensburg-pittsburgh-pennsylvania/
CATEGORIES:Backpacks for a Cause
ORGANIZER;CN="Valerie Stein":MAILTO:valeriestein22@gmail.com
END:VEVENT
END:VCALENDAR