BEGIN:VCALENDAR
VERSION:2.0
PRODID:-//Operation Impact - ECPv6.7.1//NONSGML v1.0//EN
CALSCALE:GREGORIAN
METHOD:PUBLISH
X-ORIGINAL-URL:https://operationimpact.co
X-WR-CALDESC:Events for Operation Impact
REFRESH-INTERVAL;VALUE=DURATION:PT1H
X-Robots-Tag:noindex
X-PUBLISHED-TTL:PT1H
BEGIN:VTIMEZONE
TZID:America/New_York
BEGIN:DAYLIGHT
TZOFFSETFROM:-0500
TZOFFSETTO:-0400
TZNAME:EDT
DTSTART:20230312T070000
END:DAYLIGHT
BEGIN:STANDARD
TZOFFSETFROM:-0400
TZOFFSETTO:-0500
TZNAME:EST
DTSTART:20231105T060000
END:STANDARD
END:VTIMEZONE
BEGIN:VEVENT
DTSTART;TZID=America/New_York:20230819T100000
DTEND;TZID=America/New_York:20230819T140000
DTSTAMP:20260424T161000
CREATED:20230706T154920Z
LAST-MODIFIED:20230706T154920Z
UID:3716-1692439200-1692453600@operationimpact.co
SUMMARY:Backpacks for a Cause - PACE Center Alachua - Gainesville\, Florida
DESCRIPTION:Bring backpacks and school supplies school supplies to help support 60 young girls to the event address to fill for PACE Center Alachua! \nTo donate and/or participate please email Vince Grote at grotev@gmail.com and April Grote grotea66@gmail.com
URL:https://operationimpact.co/event/backpacks-for-a-cause-pace-center-alachua-gainesville-florida/
LOCATION:Gainesville\, Florida Hub\, 1102 SW 96th Street\, Gainesville\, Florida\, 32607
CATEGORIES:Backpacks for a Cause
ORGANIZER;CN="April Grote":MAILTO:Grotea66@gmail.com
END:VEVENT
BEGIN:VEVENT
DTSTART;TZID=America/New_York:20230819T110000
DTEND;TZID=America/New_York:20230819T140000
DTSTAMP:20260424T161000
CREATED:20230708T121154Z
LAST-MODIFIED:20230808T181321Z
UID:3756-1692442800-1692453600@operationimpact.co
SUMMARY:Backpacks for a Cause - Drop off and Distribution - Brooklyn\, New York
DESCRIPTION:GOAL COMPLETE! We have already hit the required need of 54 backpacks for the children at the Stockholm Shelter. This is amazing! You can bring your backpacks to our Freeport Drop off on August 26th! \nSee event details here!
URL:https://operationimpact.co/event/backpacks-for-a-cause-drop-off-and-distribution-brooklyn-ny/
LOCATION:Stockholm Shelter – Brooklyn NY\, 99 Stockholm St\, Brooklyn\, New York\, 11221
CATEGORIES:Backpacks for a Cause
ORGANIZER;CN="Emily Ekanayake":MAILTO:emily@operationimpact.co
END:VEVENT
END:VCALENDAR