BEGIN:VCALENDAR
VERSION:2.0
PRODID:-//Operation Impact - ECPv6.7.1//NONSGML v1.0//EN
CALSCALE:GREGORIAN
METHOD:PUBLISH
X-WR-CALNAME:Operation Impact
X-ORIGINAL-URL:https://operationimpact.co
X-WR-CALDESC:Events for Operation Impact
REFRESH-INTERVAL;VALUE=DURATION:PT1H
X-Robots-Tag:noindex
X-PUBLISHED-TTL:PT1H
BEGIN:VTIMEZONE
TZID:America/New_York
BEGIN:DAYLIGHT
TZOFFSETFROM:-0500
TZOFFSETTO:-0400
TZNAME:EDT
DTSTART:20230312T070000
END:DAYLIGHT
BEGIN:STANDARD
TZOFFSETFROM:-0400
TZOFFSETTO:-0500
TZNAME:EST
DTSTART:20231105T060000
END:STANDARD
END:VTIMEZONE
BEGIN:VEVENT
DTSTART;VALUE=DATE:20230817
DTEND;VALUE=DATE:20230818
DTSTAMP:20260424T160633
CREATED:20230708T122618Z
LAST-MODIFIED:20230719T212635Z
UID:3769-1692230400-1692316799@operationimpact.co
SUMMARY:Backpacks for a Cause - Distribution Day\, Deer Lakes District - Middle School - Pittsburgh\, Pennsylvania
DESCRIPTION:Join us as we serve and distribute 40 backpacks to kids to Deer Lakes District Middle School! For exact distribution time\, to volunteer or any questions please email event organizer. Information Below.
URL:https://operationimpact.co/event/backpacks-for-a-cause-distribution-day-deer-lakes-district-middle-school-pittsburgh-pennsylvania/
LOCATION:Deer Lakes District Middle School\, 17 East Union Road\, Cheswick\, Pennsylvania\, 15024
CATEGORIES:Backpacks for a Cause
ORGANIZER;CN="Valerie Stein":MAILTO:valeriestein22@gmail.com
END:VEVENT
END:VCALENDAR