BEGIN:VCALENDAR
VERSION:2.0
PRODID:-//Operation Impact - ECPv6.7.1//NONSGML v1.0//EN
CALSCALE:GREGORIAN
METHOD:PUBLISH
X-WR-CALNAME:Operation Impact
X-ORIGINAL-URL:https://operationimpact.co
X-WR-CALDESC:Events for Operation Impact
REFRESH-INTERVAL;VALUE=DURATION:PT1H
X-Robots-Tag:noindex
X-PUBLISHED-TTL:PT1H
BEGIN:VTIMEZONE
TZID:America/New_York
BEGIN:DAYLIGHT
TZOFFSETFROM:-0500
TZOFFSETTO:-0400
TZNAME:EDT
DTSTART:20230312T070000
END:DAYLIGHT
BEGIN:STANDARD
TZOFFSETFROM:-0400
TZOFFSETTO:-0500
TZNAME:EST
DTSTART:20231105T060000
END:STANDARD
END:VTIMEZONE
BEGIN:VEVENT
DTSTART;VALUE=DATE:20230711
DTEND;VALUE=DATE:20230816
DTSTAMP:20260424T160725
CREATED:20230708T120406Z
LAST-MODIFIED:20230708T120406Z
UID:3751-1689033600-1692143999@operationimpact.co
SUMMARY:Backpacks for a Cause - OPEN DROP OFF - Jersey City\, New Jersey
DESCRIPTION:Bring pre-filled backpacks filled with school supplies to help support 150 children for in the local community of Jersey city! PLEASE CALL EVENT ORGANIZER to schedule your drop off time. \nTo donate\, participate or any questions please email event organizer. Information Below.
URL:https://operationimpact.co/event/backpacks-for-a-cause-open-drop-off-jersey-city-new-jersey/
LOCATION:New Jersey Hub\, 172 Custer Ave\, Jersey City\, NJ\, 07305\, United States
CATEGORIES:Backpacks for a Cause
ORGANIZER;CN="Natasha Persaud":MAILTO:tashap1316@gmail.com
END:VEVENT
END:VCALENDAR