BEGIN:VCALENDAR
VERSION:2.0
PRODID:-//Operation Impact - ECPv6.7.1//NONSGML v1.0//EN
CALSCALE:GREGORIAN
METHOD:PUBLISH
X-WR-CALNAME:Operation Impact
X-ORIGINAL-URL:https://operationimpact.co
X-WR-CALDESC:Events for Operation Impact
REFRESH-INTERVAL;VALUE=DURATION:PT1H
X-Robots-Tag:noindex
X-PUBLISHED-TTL:PT1H
BEGIN:VTIMEZONE
TZID:America/New_York
BEGIN:DAYLIGHT
TZOFFSETFROM:-0500
TZOFFSETTO:-0400
TZNAME:EDT
DTSTART:20230312T070000
END:DAYLIGHT
BEGIN:STANDARD
TZOFFSETFROM:-0400
TZOFFSETTO:-0500
TZNAME:EST
DTSTART:20231105T060000
END:STANDARD
END:VTIMEZONE
BEGIN:VEVENT
DTSTART;VALUE=DATE:20230615
DTEND;VALUE=DATE:20230812
DTSTAMP:20260424T183659
CREATED:20230706T163513Z
LAST-MODIFIED:20230708T115936Z
UID:3736-1686787200-1691798399@operationimpact.co
SUMMARY:Backpacks for a Cause - Drop Off - Baltimore\, Maryland
DESCRIPTION:Bring pre-filled backpacks filled with school supplies to help support 400 children in partnership with Commissary Is Very Necessary-CIVN\, United Community Network-UCN. \nTo donate\, participate or any questions please email event organizer. Information Below.
URL:https://operationimpact.co/event/backpacks-for-a-cause-drop-off-baltimore-maryland/
LOCATION:Baltimore\, Maryland Hub\, 5 Bellows Ct.\, Towson\, Maryland\, 21204
CATEGORIES:Backpacks for a Cause
ORGANIZER;CN="Alfonzo Timmons":MAILTO:altim410@gmail.com
END:VEVENT
BEGIN:VEVENT
DTSTART;VALUE=DATE:20230701
DTEND;VALUE=DATE:20230721
DTSTAMP:20260424T183659
CREATED:20230706T161951Z
LAST-MODIFIED:20230706T162825Z
UID:3732-1688169600-1689897599@operationimpact.co
SUMMARY:Backpacks for a Cause – Give a Kid a Chance Drop Off – Woodstock\, Georgia
DESCRIPTION:Bring pre-filled backpacks filled with school supplies to help support 250 children for Give a Kid a Chance! \nTo donate\, participate or any questions please email event organizer. Information Below.
URL:https://operationimpact.co/event/backpacks-for-a-cause-give-a-kid-a-chance-drop-off-woodstock-georgia/
LOCATION:Woodstock\, Georgia Hub\, 525 Magnolia Court\, Woodstock\, Georgia\, 30188
CATEGORIES:Backpacks for a Cause
ORGANIZER;CN="Sarah Stiles":MAILTO:schoppel93@gmail.com
END:VEVENT
END:VCALENDAR