BEGIN:VCALENDAR
VERSION:2.0
PRODID:-//Operation Impact - ECPv6.7.1//NONSGML v1.0//EN
CALSCALE:GREGORIAN
METHOD:PUBLISH
X-WR-CALNAME:Operation Impact
X-ORIGINAL-URL:https://operationimpact.co
X-WR-CALDESC:Events for Operation Impact
REFRESH-INTERVAL;VALUE=DURATION:PT1H
X-Robots-Tag:noindex
X-PUBLISHED-TTL:PT1H
BEGIN:VTIMEZONE
TZID:UTC
BEGIN:STANDARD
TZOFFSETFROM:+0000
TZOFFSETTO:+0000
TZNAME:UTC
DTSTART:20220101T000000
END:STANDARD
END:VTIMEZONE
BEGIN:VEVENT
DTSTART;TZID=UTC:20220731T120000
DTEND;TZID=UTC:20220731T150000
DTSTAMP:20260425T113754
CREATED:20220714T004805Z
LAST-MODIFIED:20220714T004805Z
UID:3264-1659268800-1659279600@operationimpact.co
SUMMARY:Backpacks for a Cause - Orlando\, Florida
DESCRIPTION:Bring pre-filled backpacks filled with school supplies to help support 100 children! That’s 100 backpacks and 100 sets of school supplies. Our Orlando Hub will be supporting Orange County Public Schools. \nTo donate and/or participate please email Natasha Persaud at shaylaandlloyd@gmail.com
URL:https://operationimpact.co/event/backpacks-for-a-cause-orlando-florida/
LOCATION:Orlando Hub\, 1760 Sparkling Water\, Ocoee\, Florida\, 34761\, United States
CATEGORIES:Backpacks for a Cause
ORGANIZER;CN="Shayla Brown":MAILTO:shaylaandlloyd@gmail.com
END:VEVENT
BEGIN:VEVENT
DTSTART;TZID=UTC:20220731T170000
DTEND;TZID=UTC:20220731T190000
DTSTAMP:20260425T113754
CREATED:20220714T010026Z
LAST-MODIFIED:20220714T010026Z
UID:3270-1659286800-1659294000@operationimpact.co
SUMMARY:Backpacks for a Cause - Tampa\, Florida
DESCRIPTION:Bring pre-filled backpacks filled with school supplies to help support 100 children! That’s 100 backpacks and 100 sets of school supplies. Our Tampa Hub will be supporting Fifth Avenue Mentoring and Community Outreach Services. \nTo donate and/or participate please email Sia Boehler at sia.kosmakis@gmail.com
URL:https://operationimpact.co/event/backpacks-for-a-cause-tampa-florida/
LOCATION:Tampa Florida Hub\, 5508 Madrigal Way\, Apollo Beach\, FL\, 33572\, United States
CATEGORIES:Backpacks for a Cause
ORGANIZER;CN="Sia Boehler":MAILTO:sia.kosmakis@gmail.com
END:VEVENT
END:VCALENDAR