BEGIN:VCALENDAR
VERSION:2.0
PRODID:-//Operation Impact - ECPv6.7.1//NONSGML v1.0//EN
CALSCALE:GREGORIAN
METHOD:PUBLISH
X-WR-CALNAME:Operation Impact
X-ORIGINAL-URL:https://operationimpact.co
X-WR-CALDESC:Events for Operation Impact
REFRESH-INTERVAL;VALUE=DURATION:PT1H
X-Robots-Tag:noindex
X-PUBLISHED-TTL:PT1H
BEGIN:VTIMEZONE
TZID:UTC
BEGIN:STANDARD
TZOFFSETFROM:+0000
TZOFFSETTO:+0000
TZNAME:UTC
DTSTART:20220101T000000
END:STANDARD
END:VTIMEZONE
BEGIN:VEVENT
DTSTART;TZID=UTC:20220723T080000
DTEND;TZID=UTC:20220723T170000
DTSTAMP:20260425T113753
CREATED:20220713T232954Z
LAST-MODIFIED:20220713T234026Z
UID:3241-1658563200-1658595600@operationimpact.co
SUMMARY:Backpacks for a Cause - Miami Florida
DESCRIPTION:Bring pre-filled backpacks filled with school supplies to help support 100 children! That’s 100 backpacks and 100 sets of school supplies. Our Miami Hub will be supporting The Children’s Society. \nTo donate and/or participate please email Jesenia Feliciano at jesenia.feliciano07@gmail.com
URL:https://operationimpact.co/event/backpacks-for-a-cause-miami-florida/
LOCATION:V1 Florida\, 11770 SW 248 Ter\, Homestead\, Florida\, 33032\, United States
CATEGORIES:Backpacks for a Cause
ORGANIZER;CN="Jesenia Feliciano":MAILTO:jesenia.feliciano07@gmail.com
END:VEVENT
BEGIN:VEVENT
DTSTART;TZID=UTC:20220723T120000
DTEND;TZID=UTC:20220723T170000
DTSTAMP:20260425T113753
CREATED:20220715T221719Z
LAST-MODIFIED:20220715T221719Z
UID:3299-1658577600-1658595600@operationimpact.co
SUMMARY:Backpacks for a Cause - Dallas\, TX
DESCRIPTION:Bring pre-filled backpacks filled with school supplies to help support 50 children! That’s 50 backpacks and 50 sets of school supplies. Our Dallas Hub will be supporting Thurgood Marshall Elementary School. \nTo donate and/or participate please email Sydney Holloway at sydneyholloway93@gmail.com
URL:https://operationimpact.co/event/backpacks-for-a-cause-dallas-tx/
LOCATION:Dallas Texas Hub\, 1724 Scottsdale Drive\, Plano\, TX\, 75023\, United States
CATEGORIES:Backpacks for a Cause
ORGANIZER;CN="Sydney Holloway":MAILTO:sydneyholloway93@gmail.com
END:VEVENT
END:VCALENDAR